BEGIN:VCALENDAR
VERSION:2.0
METHOD:PUBLISH
PRODID:-//Accessible Web Design//My Calendar//http://www.joedolson.com//v//EN';
BEGIN:VEVENT
UID:108683-58392
LOCATION:Mehrgenerationenhaus Luckau Jahnstraße 8  Luckau  15926
SUMMARY:Still- und Milchcafé
DTSTAMP:20260616T093000
ORGANIZER;CN=dahme-spreewald:MAILTO:ngk-lds@awo-bb-sued.de
DTSTART:20260616T093000
DTEND:20260616T110000
CATEGORIES:Familien-Gruppen, -Treffs &amp; -Kurse
URL;VALUE=URI:https://www.netzwerk-gesunde-kinder.de/termin/still-und-milchcafe-7/?mc_id=108683
DESCRIPTION:Hier können sich Eltern in gemütlicher Runde zu u. a. Stillthemen austauschen: Stillpositionen, korrektes Anlegen, Stillen nach Bedarf/Stillabstände, wunde Brustwarzen/Milchstau, Muttermilch gewinnen/Abpumpen, Zufüttern, Teilstillen, Stillstreik, Schlafen, Beikost, Tandem-Stillen, Stillen in der Öffentlichkeit, Stillen/Kita/Berufstätigkeit, Langzeitstillen, Abstillen Wann und wo? an jedem 3. Dienstag im Monat von 09.30 - 11.00 Uhr im Mehrgenerationenhaus Luckau, Jahnstraße 8, 15926&hellip;
END:VEVENT
END:VCALENDAR