BEGIN:VCALENDAR
VERSION:2.0
METHOD:PUBLISH
PRODID:-//Accessible Web Design//My Calendar//http://www.joedolson.com//v//EN';
BEGIN:VEVENT
UID:108640-58349
LOCATION:Mehrgenerationenhaus "Berstetreff" Lübben Gartengasse 14   Lübben  15907
SUMMARY:Schwangerenfrühstück 
DTSTAMP:20261105T093000
ORGANIZER;CN=dahme-spreewald:MAILTO:ngk-lds@awo-bb-sued.de
DTSTART:20261105T093000
DTEND:20261105T113000
CATEGORIES:Familien-Gruppen, -Treffs &amp; -Kurse
URL;VALUE=URI:https://www.netzwerk-gesunde-kinder.de/termin/schwangerenfruehstueck-12/?mc_id=108640
DESCRIPTION:Bei einer Schwangerschaft kann die Wartezeit auf das Baby mitunter recht lang werden. Warum sich nicht mit anderen schwangeren Frauen zu einer gemütlichen Frühstücksrunde treffen und sich so die Wartezeit verkürzen? Das Netzwerk Gesunde Kinder Dahme-Spreewald lädt an jedem ersten Donnerstag im Monat zu einem leckeren Frühstück ins Mehrgenerationenhaus Lübben (Gartengasse 14, Lübben) ein. In&hellip;
END:VEVENT
END:VCALENDAR