BEGIN:VCALENDAR
VERSION:2.0
METHOD:PUBLISH
PRODID:-//Accessible Web Design//My Calendar//http://www.joedolson.com//v//EN';
BEGIN:VEVENT
UID:108626-58335
LOCATION:Mehrgenerationenhaus Luckau Jahnstraße 8  Luckau  15926
SUMMARY:Schwangerencafé
DTSTAMP:20260826T160000
ORGANIZER;CN=dahme-spreewald:MAILTO:ngk-lds@awo-bb-sued.de
DTSTART:20260826T160000
DTEND:20260826T173000
CATEGORIES:Familien-Gruppen, -Treffs &amp; -Kurse
URL;VALUE=URI:https://www.netzwerk-gesunde-kinder.de/termin/schwangerencafe-9/?mc_id=108626
DESCRIPTION:Bei einer Schwangerschaft kann die Wartezeit auf das Baby mitunter recht lang werden. Warum sich nicht mit anderen schwangeren Frauen zu einer gemütlichen Nachmittagsrunde bei Kaffee, Tee und Kuchen treffen, um sich so die Wartezeit zu verkürzen? Dabei spielt es keine Rolle, ob Sie am Anfang der Schwangerschaft oder bereits wenige Wochen vor dem Entbindungstermin&hellip;
END:VEVENT
END:VCALENDAR