BEGIN:VCALENDAR
VERSION:2.0
METHOD:PUBLISH
PRODID:-//Accessible Web Design//My Calendar//http://www.joedolson.com//v//EN';
BEGIN:VEVENT
UID:108595-58304
LOCATION:Online Online  Online
SUMMARY:Online Elterntreff „Elterntipps und Tricks direkt zum Mitnehmen“
DTSTAMP:20260609T193000
ORGANIZER;CN=dahme-spreewald:MAILTO:ngk-lds@awo-bb-sued.de
DTSTART:20260609T193000
DTEND:20260609T213000
CATEGORIES:Familien-Gruppen, -Treffs &amp; -Kurse
URL;VALUE=URI:https://www.netzwerk-gesunde-kinder.de/termin/online-elterntreff-elterntipps-und-tricks-direkt-zum-mitnehmen-6/?mc_id=108595
DESCRIPTION:Thema: “Gib mir mehr!” - Schöne bunte Medienwelt Ein Praxis-Webinar der AWO für Eltern, Großeltern und Fachkräfte Unsere Kinder wachsen in einer Welt voller digitaler Medien auf – und wir als Erwachsene stehen täglich vor der Frage: Wie begleite ich mein Kind liebevoll, klar und ohne ständige Machtkämpfe? In diesem 2-stündigen Online-Webinar geht es nicht&hellip;
END:VEVENT
END:VCALENDAR