BEGIN:VCALENDAR
VERSION:2.0
METHOD:PUBLISH
PRODID:-//Accessible Web Design//My Calendar//http://www.joedolson.com//v//EN';
BEGIN:VEVENT
UID:108594-58303
LOCATION:Online Online  Online
SUMMARY:Online Elterntreff „Elterntipps und Tricks direkt zum Mitnehmen“
DTSTAMP:20260519T193000
ORGANIZER;CN=dahme-spreewald:MAILTO:ngk-lds@awo-bb-sued.de
DTSTART:20260519T193000
DTEND:20260519T213000
CATEGORIES:Familien-Gruppen, -Treffs &amp; -Kurse
URL;VALUE=URI:https://www.netzwerk-gesunde-kinder.de/termin/online-elterntreff-elterntipps-und-tricks-direkt-zum-mitnehmen-5/?mc_id=108594
DESCRIPTION:Thema: „Erschöpft vom täglichen Kampf ums Mitmachen? Bist du müde vom Nein sagen?" Niemand mag Schimpfen und es hilft noch nicht mal viel und lange - nur manchmal sind wir selber so erschöpft und ratlos... - Wir wollen es für unsere Kinder anders machen, als wir es selbst und unsere Eltern es erlebt haben und&hellip;
END:VEVENT
END:VCALENDAR