BEGIN:VCALENDAR
VERSION:2.0
METHOD:PUBLISH
PRODID:-//Accessible Web Design//My Calendar//http://www.joedolson.com//v//EN';
BEGIN:VEVENT
UID:108593-58302
LOCATION:Online Online  Online
SUMMARY:Online Elterntreff „Elterntipps und Tricks direkt zum Mitnehmen“
DTSTAMP:20260421T193000
ORGANIZER;CN=dahme-spreewald:MAILTO:ngk-lds@awo-bb-sued.de
DTSTART:20260421T193000
DTEND:20260421T213000
CATEGORIES:Familien-Gruppen, -Treffs &amp; -Kurse
URL;VALUE=URI:https://www.netzwerk-gesunde-kinder.de/termin/online-elterntreff-elterntipps-und-tricks-direkt-zum-mitnehmen-4/?mc_id=108593
DESCRIPTION:Thema: :"Eltern am Limit - was tun, wenn Dein Kind schreit, schlägt, pausenlos jammert oder einfach nicht mitmacht und du selbst an deine Grenzen kommst? Wie findest du zurück zu Dir und Deinem Kind. Unsere eigenen großen Gefühle können eine ziemliche Herausforderung für uns sein. Umso mehr, wenn unsere Kinder gleichzeitig laut und wild sind&hellip;
END:VEVENT
END:VCALENDAR