BEGIN:VCALENDAR
VERSION:2.0
METHOD:PUBLISH
PRODID:-//Accessible Web Design//My Calendar//http://www.joedolson.com//v//EN';
BEGIN:VEVENT
UID:108582-58291
LOCATION:AWO Gemeinschaftsraum Märkische Zeile 13  Königs Wusterhausen  15711
SUMMARY:Geschwistervorbereitungskurs - Hurra, ich bekomme ein Geschwisterchen
DTSTAMP:20260425T100000
ORGANIZER;CN=dahme-spreewald:MAILTO:ngk-lds@awo-bb-sued.de
DTSTART:20260425T100000
DTEND:20260425T113000
CATEGORIES:Elternwissen
URL;VALUE=URI:https://www.netzwerk-gesunde-kinder.de/termin/geschwistervorbereitungskurs-hurra-ich-bekomme-ein-geschwisterchen/?mc_id=108582
DESCRIPTION:Für Kinder ändert sich vieles, wenn sie große Schwester oder großer Bruder werden. Deshalb ist es gut, wenn Kinder auf die Ankunft eines neuen Familienmitgliedes gut vorbereitet werden. Kinder ab 3 sind mit ihren Eltern herzlich willkommen. Folgendes zum Kurs bitte mitbringen: •ein Baby Foto vom großen Geschwisterkind •seine Puppe oder sein Kuscheltier (wir haben&hellip;
END:VEVENT
END:VCALENDAR