BEGIN:VCALENDAR
VERSION:2.0
METHOD:PUBLISH
PRODID:-//Accessible Web Design//My Calendar//http://www.joedolson.com//v//EN';
BEGIN:VEVENT
UID:108562-58271
LOCATION:AWO Gemeinschaftsraum Märkische Zeile 13  Königs Wusterhausen  15711
SUMMARY:Brabbeltreff
DTSTAMP:20260813T100000
ORGANIZER;CN=dahme-spreewald:MAILTO:ngk-lds@awo-bb-sued.de
DTSTART:20260813T100000
DTEND:20260813T113000
CATEGORIES:Familien-Gruppen, -Treffs &amp; -Kurse
URL;VALUE=URI:https://www.netzwerk-gesunde-kinder.de/termin/brabbeltreff-25/?mc_id=108562
DESCRIPTION:Der Brabbeltreff ist ein offener Eltern-Kind-Treff. Dieser dient zum gemeinsamen Austausch. Kosten: kostenfreiAnmeldeinformationen: Anmeldung an 0800 64546337 oder per Mail an ngk-lds@awo-bb-sued.deWeitere Informationen: 2026_Flyer_Brabbeltreff.jpg
END:VEVENT
END:VCALENDAR