BEGIN:VCALENDAR
VERSION:2.0
METHOD:PUBLISH
PRODID:-//Accessible Web Design//My Calendar//http://www.joedolson.com//v//EN';
BEGIN:VEVENT
UID:108345-58054
LOCATION:SANA (Lauchhammer) Friedensstr. 18  Lauchhammer  01979
SUMMARY:Geschwisterkurs
DTSTAMP:20261013T133000
ORGANIZER;CN=niederlausitz:MAILTO:skn.ngk@sana.de
DTSTART:20261013T133000
DTEND:20261013T143000
CATEGORIES:Familien-Gruppen, -Treffs &amp; -Kurse
URL;VALUE=URI:https://www.netzwerk-gesunde-kinder.de/termin/geschwisterkurs-10/?mc_id=108345
DESCRIPTION:Mama ist schwanger. Wir bekommen ein Geschwisterchen. Eine aufregende Zeit auch für die zukünftige große Schwester und den zukünftigen großen Bruder. Im Geschwisterkurs lernen die Kinder den achtsamen Umgang mit dem kleinen Baby, wie sie es richtig halten und tragen können, wie es gewickelt und angezogen wird. Alles was für die geschwisterliche Fürsorge wichtig ist,&hellip;
END:VEVENT
END:VCALENDAR