BEGIN:VCALENDAR
VERSION:2.0
METHOD:PUBLISH
PRODID:-//Accessible Web Design//My Calendar//http://www.joedolson.com//v//EN';
BEGIN:VEVENT
UID:107827-57536
LOCATION:Begegnungs- und Weiterbildungszentrum Westend Heegermühler Str. 19c  Eberswalde  16225
SUMMARY:Weihnachten mit Kindern
DTSTAMP:20261210T100000
ORGANIZER;CN=barnim-nord:MAILTO:netzwerkgesundekinder@klinikum-barnim.de
DTSTART:20261210T100000
DTEND:20261210T113000
CATEGORIES:Familien-Gruppen, -Treffs &amp; -Kurse
URL;VALUE=URI:https://www.netzwerk-gesunde-kinder.de/termin/weihnachten-mit-kindern-2/?mc_id=107827
DESCRIPTION:
END:VEVENT
END:VCALENDAR