BEGIN:VCALENDAR
VERSION:2.0
METHOD:PUBLISH
PRODID:-//Accessible Web Design//My Calendar//http://www.joedolson.com//v//EN';
BEGIN:VEVENT
UID:107805-57514
LOCATION:Familienzentrum "Kleeblatt" Calau Töpferstraße 32  Calau  03205
SUMMARY:Eltern-Kind-Cafè
DTSTAMP:20260608T153000
ORGANIZER;CN=oberspreewald-lausitz-nord:MAILTO:gesunde-kinder@awo-bb-sued.de
DTSTART:20260608T153000
DTEND:20260608T173000
CATEGORIES:Familien-Gruppen, -Treffs &amp; -Kurse
URL;VALUE=URI:https://www.netzwerk-gesunde-kinder.de/termin/eltern-kind-cafe-10/?mc_id=107805
DESCRIPTION:Immer montags, findet unser Eltern-Kind-Café statt. So haben nun auch berufstätige Eltern die Möglichkeit, sich in gemütlicher Runde auszutauschen, während die Kinder miteinander spielen, lachen und Spaß haben. Gerne bieten wir auch verschiedene Themenschwerpunkte z.B. Ernährung, Kita-Alltag, Eltern-Fitness, Entwicklungsphasen der Kinder, Angebote für Kinder in der Region Damit Kinder gesund aufwachsen – Unser Netzwerk an&hellip;
END:VEVENT
END:VCALENDAR