BEGIN:VCALENDAR
VERSION:2.0
METHOD:PUBLISH
PRODID:-//Accessible Web Design//My Calendar//http://www.joedolson.com//v//EN';
BEGIN:VEVENT
UID:107748-57457
LOCATION:MehrGenerationenHaus MIKADO | Stiftung SPI   Frankfurt (Oder)  15230
SUMMARY:Schwangeren-und Babyfrühstück Mikado
DTSTAMP:20261111T090000
ORGANIZER;CN=frankfurt-oder:MAILTO:k.koepke@caritas-brandenburg.de
DTSTART:20261111T090000
DTEND:20261111T110000
CATEGORIES:Familien-Gruppen, -Treffs &amp; -Kurse
URL;VALUE=URI:https://www.netzwerk-gesunde-kinder.de/termin/schwangeren-und-babyfruehstueck-mikado-10/?mc_id=107748
DESCRIPTION:Die Zeit der Schwangerschaft, Geburt und mit einem Neugeborenen ist aufregend und voller Fragen. Das Netzwerk Gesunde Kinder stellt sich vor und lädt Sie zu einem leckeren Frühstück ein, um sich mit anderen Schwangeren und Eltern mit Babys bis ca. 6 Monaten auszutauschen. Kosten: keineAnmeldeinformationen: Zur besseren Planung ist eine Anmeldung erwünscht unter 0172 441&hellip;
END:VEVENT
END:VCALENDAR