BEGIN:VCALENDAR
VERSION:2.0
METHOD:PUBLISH
PRODID:-//Accessible Web Design//My Calendar//http://www.joedolson.com//v//EN';
BEGIN:VEVENT
UID:107729-57438
LOCATION:Eltern-Kind-Zentrum Mitte (ehemals Nord) Paul-Feldner-Straße 6,  Frankfurt (Oder)  15230
SUMMARY:Schwangeren- und Babyfrühstück "Mitte"
DTSTAMP:20261104T090000
ORGANIZER;CN=frankfurt-oder:MAILTO:k.koepke@caritas-brandenburg.de
DTSTART:20261104T090000
DTEND:20261104T110000
CATEGORIES:Familien-Gruppen, -Treffs &amp; -Kurse
URL;VALUE=URI:https://www.netzwerk-gesunde-kinder.de/termin/schwangeren-und-babyfruehstueck-mitte-8/?mc_id=107729
DESCRIPTION:Die Zeit der Schwangerschaft, Geburt und mit einem Neugeborenen ist aufregend und voller Fragen. Das Netzwerk Gesunde Kinder lädt Sie zu einem leckeren Frühstück ein, um sich mit anderen Schwangeren und Eltern mit Babys bis ca. 6 Monaten auszutauschen. Einmal monatlich mittwochs im EKZ Mitte. Kosten: keineAnmeldeinformationen: Zur besseren Planung ist eine Anmeldung erwünscht unter&hellip;
END:VEVENT
END:VCALENDAR