BEGIN:VCALENDAR
VERSION:2.0
METHOD:PUBLISH
PRODID:-//Accessible Web Design//My Calendar//http://www.joedolson.com//v//EN';
BEGIN:VEVENT
UID:107335-57044
LOCATION:AWO Kita "Diesterweg" Goethestraße 10  Lübbenau  03222
SUMMARY:Spielkreis Lübbenau
DTSTAMP:20261104T150000
ORGANIZER;CN=oberspreewald-lausitz-nord:MAILTO:gesunde-kinder@awo-bb-sued.de
DTSTART:20261104T150000
DTEND:20261104T160000
CATEGORIES:Familien-Gruppen, -Treffs &amp; -Kurse
URL;VALUE=URI:https://www.netzwerk-gesunde-kinder.de/termin/spielkreis-luebbenau-21/?mc_id=107335
DESCRIPTION:Im Spielkreis können sich Eltern aus Lübbenau und Umgebung treffen, Kontakte knüpfen und sich über die Babyzeit, Kindergesundheit und weitere Familienthemen austauschen. Als Ansprechpartnerin vor Ort steht Euch eine unserer erfahrenen Hebammen zur Verfügung. Die Kleinsten können miteinander Krabbeln, Spielen und die bunte Kita-Welt entdecken. Referenten: Edith BallenthinKosten: kostenfreiAnmeldeinformationen: Bitte meldet Euch vorab telefonisch unter&hellip;
END:VEVENT
END:VCALENDAR