BEGIN:VCALENDAR
VERSION:2.0
METHOD:PUBLISH
PRODID:-//Accessible Web Design//My Calendar//http://www.joedolson.com//v//EN';
BEGIN:VEVENT
UID:107318-57027
LOCATION:Regine-Hildebrandt-Haus Thomas-Müntzer-Straße 11  Lübbenau/ Spreewald  03222
SUMMARY:Familienfrühstück in Lübbenau
DTSTAMP:20261113T093000
ORGANIZER;CN=oberspreewald-lausitz-nord:MAILTO:gesunde-kinder@awo-bb-sued.de
DTSTART:20261113T093000
DTEND:20261113T120000
CATEGORIES:Familien-Gruppen, -Treffs &amp; -Kurse
URL;VALUE=URI:https://www.netzwerk-gesunde-kinder.de/termin/familienfruehstueck-in-luebbenau-10/?mc_id=107318
DESCRIPTION:Werdende und frisch gebackene Eltern sind immer am 2. Freitag im Monat mit ihrem Nachwuchs zu einem gemütlichen Familienfrühstück und zum Austausch über Schwangerschaft, Geburt und Babyzeit eingeladen. Referenten: Katharina Sorge, Edith BallenthinKosten: kostenfreiAnmeldeinformationen: Um Anmeldung wird unter der 01590 429 4056 oder per Mail an gesunde-kinder@awo-bb-sued.de gebeten. Weitere Informationen: Familientreff Lübbenau 2023 ab September.jpg
END:VEVENT
END:VCALENDAR