BEGIN:VCALENDAR
VERSION:2.0
METHOD:PUBLISH
PRODID:-//Accessible Web Design//My Calendar//http://www.joedolson.com//v//EN';
BEGIN:VEVENT
UID:107253-56962
LOCATION:Im Jugendclub Villa Panketal Schönower Str.16  Panketal  16341
SUMMARY:Krabbelgruppe Panketal
DTSTAMP:20260513T090000
ORGANIZER;CN=barnim-sued:MAILTO:nicole.peter@immanuelalbertinen.de
DTSTART:20260513T090000
DTEND:20260513T100000
CATEGORIES:Familien-Gruppen, -Treffs &amp; -Kurse
URL;VALUE=URI:https://www.netzwerk-gesunde-kinder.de/termin/krabbelgruppe-panketal-6/?mc_id=107253
DESCRIPTION:Am Haus links vorbei findet ihr den Hintereingang. Dort hinein, gleich Rechts die Treppe hinauf. Krabbelgruppe, Jeden 2. und 4. Mittwoch im Monat Krabbelgruppe für Mamis und Papís mit ihren Kindern. 1.Nur mit Anmeldung per Mail. 2.Es dürfen 7 Erwachsene mit Kind teilnehmen,(Geschwisterkinder dürfen mitgebracht werden) wenn die Anmeldeliste voll ist, wird es eine Warteliste&hellip;
END:VEVENT
END:VCALENDAR