BEGIN:VCALENDAR
VERSION:2.0
METHOD:PUBLISH
PRODID:-//Accessible Web Design//My Calendar//http://www.joedolson.com//v//EN';
BEGIN:VEVENT
UID:107142-56851
LOCATION:Online Seminar - Zoom Berliner Straße 26  Bernau  16321
SUMMARY:Elternseminar:"Trotzende Kleinkinder sind wie kleine Neandertaler."
DTSTAMP:20260505T200000
ORGANIZER;CN=barnim-sued:MAILTO:nicole.peter@immanuelalbertinen.de
DTSTART:20260505T200000
DTEND:20260505T220000
CATEGORIES:Elternwissen
URL;VALUE=URI:https://www.netzwerk-gesunde-kinder.de/termin/elternseminartrotzende-kleinkinder-sind-wie-kleine-neandertaler/?mc_id=107142
DESCRIPTION:Freuen Sie sich auf einen humorvollen Vortragsabend der Klarheit über die sogenannte Trotzphase schafft. Sind Sie dabei, wenn wir erfahren warum „unsere“ Kinder manchmal so sehr verzweifeln, sich auf den Boden werfen und/oder ihre Wut nicht unter Kontrolle haben. Mit Ihrem Elterntrainer Birger Holz von BilderKraft GbR aus Berlin Referenten: Birger HolzKosten: Netzwerkmitglieder kostenfrei! Alle&hellip;
END:VEVENT
END:VCALENDAR