BEGIN:VCALENDAR
VERSION:2.0
METHOD:PUBLISH
PRODID:-//Accessible Web Design//My Calendar//http://www.joedolson.com//v//EN';
BEGIN:VEVENT
UID:107067-56776
LOCATION:Familienzentrum Eisenhüttenstadt Fröbelring 1  Eisenhüttenstadt  15890
SUMMARY:Schwangeren- und Babyfrühstück
DTSTAMP:20260513T093000
ORGANIZER;CN=oder-spree:MAILTO:jenny.siebke@drk-mohs.de
DTSTART:20260513T093000
DTEND:20260513T110000
CATEGORIES:Familien-Gruppen, -Treffs &amp; -Kurse
URL;VALUE=URI:https://www.netzwerk-gesunde-kinder.de/termin/schwangeren-und-babyfruehstueck-13/?mc_id=107067
DESCRIPTION:Wir laden Schwangeren und Eltern mit Babys bis zu 6 Monaten zu einem gemeinsamen Frühstück ein. Es erwarten euch leckere Brötchen, frischer Kaffee und ein gedeckter Tisch. Tauscht euch mit anderen Eltern und Schwangeren rund um Themen wie Geburt, Schwangerschaft, die ersten Entwicklungsschritte Ihres Babys oder sonstige Alltagsthemen aus. Wir freuen uns auf Euch! Kosten:&hellip;
END:VEVENT
END:VCALENDAR