BEGIN:VCALENDAR
VERSION:2.0
METHOD:PUBLISH
PRODID:-//Accessible Web Design//My Calendar//http://www.joedolson.com//v//EN';
BEGIN:VEVENT
UID:106487-56196
LOCATION:Ergotherapie Reinisch Heinrich-Heine-Str. 12  Elsterwerda  04910
SUMMARY:Modul 6 - Entwicklung im 2. und 3. Lebensjahr 
DTSTAMP:20260915T163000
ORGANIZER;CN=elbe-elster:MAILTO:gesunde-kinder@lkee.de
DTSTART:20260915T163000
DTEND:20260915T180000
CATEGORIES:Schulungen für Familienpat/innen
URL;VALUE=URI:https://www.netzwerk-gesunde-kinder.de/termin/modul-6-entwicklung-im-2-und-3-lebensjahr/?mc_id=106487
DESCRIPTION:kindliche Entwicklung, Grob- und Feinmotorik, Kognition, Sprache, soziale und emotionale Kompetenzen, Beziehungsverhalten, Beschäftigung, Spiel Referenten: Solveig ReinischKosten: keine Anmeldeinformationen: Bitte anmelden unter Tel.: 03535/462639 oder gesunde-kinder@lkee.de
END:VEVENT
END:VCALENDAR