BEGIN:VCALENDAR
VERSION:2.0
METHOD:PUBLISH
PRODID:-//Accessible Web Design//My Calendar//http://www.joedolson.com//v//EN';
BEGIN:VEVENT
UID:106453-56162
LOCATION:Familienzentrum Eisenhüttenstadt Fröbelring 1  Eisenhüttenstadt  15890
SUMMARY:Lotsenstammtisch
DTSTAMP:20260504T150000
ORGANIZER;CN=oder-spree:MAILTO:jenny.siebke@drk-mohs.de
DTSTART:20260504T150000
DTEND:20260504T170000
CATEGORIES:Sonstige Veranstaltungen
URL;VALUE=URI:https://www.netzwerk-gesunde-kinder.de/termin/lotsenstammtisch-3/?mc_id=106453
DESCRIPTION:Unser Lotsenstammtisch dient dem Austausch und der Information unserer Familienlots*innen aus der Region Eisenhüttenstadt/ Beeskow.
END:VEVENT
END:VCALENDAR